{"text_format":"1","workbook":"xlsx","n_sheets":2,"sheets":["dane","wydruk"],"not_rendered":{"charts":3,"images":13,"macros":1,"external_links":0,"defined_names":1,"comments":0,"pivot_tables":0},"unopened":[],"bounds":{"document_bytes":16777216,"sheet_cells":100000,"rows_first":2000,"rows_last":500,"rows_between":2000,"halvings":0,"cell_chars":16384,"cell_head_chars":4096},"cells_cut":0,"cells_raw":0,"read":"whole","date_system":"1900"}

{"sheet":"dane","index":0,"n_rows":55,"n_cols":5,"rows_kept":55,"cut":false,"hidden":false,"merged":[[0,3,0,4],[1,4,2,4],[3,4,4,4]]}
["REAKCJA PROSTA - wyniki",null,null,"Wprowadź dane do wydruku:"]
[null,null,null,"Nazwa Badanego:",1]
["Sygnałów: (12)",{"$f":"VALUE(MID(A3,SEARCH(\"(\",A3)+1,2))","v":12}]
[null,null,null,"Uwagi:","KALIBER"]
["Kolejne czasy:"]
["1 >0,216",{"$f":"VALUE(MID(A6,SEARCH(\">\",A6)+1,6))","v":0.216}]
["2 >0,226",0.22600000000000001]
["3 >0,217",0.217]
["4 >0,220",0.22]
["5 >0,234",0.23400000000000001]
["6 >0,222",0.222]
["7 >0,211",0.21099999999999999]
["8 >0,200",0.2]
["9 >0,200",0.2]
["10 >0,210",0.21]
["11 >0,282",0.28199999999999997]
["12 >0,391",0.39100000000000001]
[]
["Średnia <min,max> 0,295"]
[]
["Średnia (min,max) 0,29"]
[]
[]
["Układ odniesienia (rok):","czas [ms]"]
["Ben Johnson (1987)",79]
["Carl Lewis (1987)",86]
["Usain Bolt (2009)",146]
["Michael Schumacher (1995)",160]
["Ayrton Senna (1990)",170]
["Nigel Mansell (1986)",180]
["Maciej Żurawski (2006)",187]
["Napastnicy KN PZPN (2006)",206]
["Bramkarze KN PZPN (2006)",213]
["Pomocnicy KN PZPN (2006)",217]
["Obrońcy KN PZPN (2006)",231]
["Twój wynik",{"$f":"wydruk!D12","v":215.25}]
["Średni czas reakcji [ms]:","ocena"]
[0,"profesjonalny"]
[180,"wybitny"]
[200,"bardzo dobry"]
[230,"dobry"]
[270,"przeciętny"]
[320,"słaby"]
[390,"bardzo słaby"]
[1001,"anormalny"]
[]
["Wynik koncentracji uwagi [%]:","ocena"]
[0,"powtórz test"]
[50,"anormalny"]
[73,"słaby"]
[83,"przeciętny"]
[90,"dobry"]
[95,"bardzo dobry"]
[98,"wybitny"]
[100,"profesjonalny"]

{"sheet":"wydruk","index":1,"n_rows":49,"n_cols":15,"rows_kept":49,"cut":false,"hidden":false,"merged":[[37,1,38,6],[46,1,46,12],[47,1,47,12],[48,1,48,10],[1,2,1,11],[14,5,14,7],[9,1,9,7],[10,1,11,2],[12,5,12,7],[11,5,11,7],[10,5,10,7],[12,1,12,2],[13,5,13,7],[48,11,48,12],[24,1,25,3],[26,1,29,1],[26,2,29,2],[26,3,29,3],[0,2,0,11],[3,2,3,11],[4,2,4,8],[5,2,5,12],[2,2,2,11],[4,10,4,11]]}
[null,null,"KALIBER - KURS INSTRUKTORSKI"]
[null,null,"BIAŁYSTOK"]
[]
[null,null,"Protokół z pomiaru czasu reakcji "]
[null,"Badany:",{"$f":"dane!E2","v":1},null,null,null,null,null,null,null,"Białystok dn.:",null,{"$f":"TODAY()","v":"2026-05-08"}]
[null,"Uwagi:",{"$f":"dane!E4","v":"KALIBER"}]
[null,"Wyniki:","T1","T2","T3","T4","T5","T6","T7","T8","T9","T10","Średnia aryt."]
[null,"sekundy: ",{"$f":"dane!B6","v":0.216},{"$f":"dane!B7","v":0.22600000000000001},{"$f":"dane!B8","v":0.217},{"$f":"dane!B9","v":0.22},{"$f":"dane!B10","v":0.23400000000000001},{"$f":"dane!B11","v":0.222},{"$f":"dane!B12","v":0.21099999999999999},{"$f":"dane!B13","v":0.2},{"$f":"dane!B14","v":0.2},{"$f":"dane!B15","v":0.21},{"$f":"AVERAGE(C8:L8)","v":0.21560000000000001}]
[null,"milisekundy:",{"$f":"C8*1000","v":216},{"$f":"D8*1000","v":226},217,220,234,222,211,200,200,210,{"$f":"AVERAGE(C9:L9)","v":215.6}]
[null,"Charakterystyka opisowa szybkości reakcji ruchowej",null,null,null,null,null,null,null,null,null,{"$f":"STDEV(C9:L9)","v":10.793001847905378},{"$f":"SQRT((((L10^2)*10)-((D12-D14)^2+(D12-D15)^2))/8)","v":8.5202984754708648}]
[null,"Średni znormalizowany czas prostej reakcji:",null,null,null,"Twój wynik jest:"]
[null,null,null,{"$f":"(SUM(C9:L9)-(D14+D15))/8","v":215.25},"ms",{"$f":"VLOOKUP(D12,dane!$A$38:$B$45,2,1)","v":"bardzo dobry"}]
[null,"Koncentracja uwagi:",null,{"$f":"(1-(M10/D12))*100","v":96.041673182127354},"%",{"$f":"VLOOKUP(D13,dane!$A$48:$B$55,2,1)","v":"bardzo dobry"}]
[null,null,"Najkrótszy czas reakcji:",{"$f":"MIN(C9:L9)","v":200},"ms",{"$f":"VLOOKUP(D14,dane!$A$38:$B$45,2,1)","v":"bardzo dobry"}]
[null,null,"Najdłuższy czas reakcji:",{"$f":"MAX(C9:L9)","v":234},"ms",{"$f":"VLOOKUP(D15,dane!$A$38:$B$45,2,1)","v":"dobry"}]
[]
[]
[]
[]
[]
[]
[]
[null,null,null,null,null,null,null,null,null,null,null,null,null,null," "]
[]
[null,"Prognozowana Twoja droga i skuteczność zatrzymania pojazdu"]
[]
[null,"Prędkosć samochodu\n[km/h]","Całkowita droga [m]","Twoja skuteczność"]
[]
[]
[null,null,null,null,null,null,40,{"$f":"G30/3.6","v":11.111111111111111},4.2,6.7,{"$f":"H30+I30+J30","v":22.011111111111109},{"$f":"(G30/3.6)*($D$12/1000)","v":2.3916666666666666},{"$f":"K30-C31","v":8.7194444444444414}]
[null,40,{"$f":"L30++I30+J30","v":13.291666666666668},{"$f":"K30/C31","v":1.656008359456635},null,null,50,{"$f":"G31/3.6","v":13.888888888888889},5.3,11.2,{"$f":"H31+I31+J31","v":30.388888888888889},2.9895833333333335,10.899305555555557]
[null,50,19.489583333333332,1.5592374844111885,null,null,60,16.666666666666668,6.4,16.7,39.766666666666666,3.5875000000000004,13.079166666666666]
[null,60,26.6875,1.4900858704137392,null,null,70,19.444444444444443,7.5,23.2,50.144444444444446,4.1854166666666659,15.259027777777781]
[null,70,34.885416666666664,1.4374042002587839,null,null,80,22.222222222222221,8.6,30.9,61.722222222222221,4.7833333333333332,17.43888888888889]
[null,80,44.283333333333331,1.3938025341864257,null,null,90,25,9.6999999999999993,39.799999999999997,74.5,5.3812499999999996,19.618750000000006]
[null,90,54.881249999999994,1.3574763694340053,null,null,100,27.777777777777779,10.8,49.8,88.37777777777778,5.979166666666667,21.798611111111114]
[null,100,66.579166666666666,1.3274088908358888]
[null,"Przewidywana przepisowa droga zatrzymania pojazdu \nprzy różnych prędkościach dla czasu reakcji = 1000ms "]
[]
[]
[]
[]
[]
[]
[]
[null,"źródła:"]
[null,"Guzek M. i wsp.: Czasy reakcji kierowców. Środowiska badań, metodologia i przykładowe wyniki. Wydział Mechaniczny, PSiSS, Logistyka 4, Kraków 2011"]
[null,"Łach P.: Zmiany przewodnictwa nerwowo-mięśniowego pracowników w zależności od wieku. CIOP-PIB, Medycyna Pracy 73(5), Warszawa 2022"]
[null,"KHELNOW: https://khelnow.com/formula-racing/2023-05-formula-1-fastest-reaction-time. WEB, May 24, 2023",null,null,null,null,null,null,null,null,null,"R. Dargiewicz ©2024"]